BEGIN:VCALENDAR
VERSION:2.0
PRODID:-//www.cabotumc.org//NONSGML kigkonsult.se iCalcreator 2.39.1//
CALSCALE:GREGORIAN
METHOD:PUBLISH
UID:84efd3f5-a30c-42f3-a1bf-654c64549f5b
X-WR-CALNAME:www.cabotumc.org
X-WR-CALDESC:www.cabotumc.org
X-WR-TIMEZONE:America/Los_Angeles
X-LIC-LOCATION:America/Los_Angeles
BEGIN:VEVENT
UID:632f0d76-b7e5-4ad4-849e-b2a9e80f54d1
DTSTAMP:20260423T102013Z
CLASS:PUBLIC
DTSTART;TZID=America/Los_Angeles:20260423T120000
DTEND;TZID=America/Los_Angeles:20260423T130000
SUMMARY:Adults lunch at Senior Center (The Peak) $5
TRANSP:OPAQUE
BEGIN:VALARM
ACTION:DISPLAY
DESCRIPTION:Adults lunch at Senior Center (The Peak) $5
TRIGGER:-PT15M
END:VALARM
END:VEVENT
END:VCALENDAR
