BEGIN:VCALENDAR
VERSION:2.0
PRODID:-//www.cabotumc.org//NONSGML kigkonsult.se iCalcreator 2.39.1//
CALSCALE:GREGORIAN
METHOD:PUBLISH
UID:749a9f68-ba0f-49d9-813a-53fa351e0ab8
X-WR-CALNAME:www.cabotumc.org
X-WR-CALDESC:www.cabotumc.org
X-WR-TIMEZONE:America/Los_Angeles
X-LIC-LOCATION:America/Los_Angeles
BEGIN:VEVENT
UID:662afefd-3e03-4559-9413-dfe095535e83
DTSTAMP:20260422T083746Z
CLASS:PUBLIC
DTSTART;TZID=America/Los_Angeles:20260428T180000
DTEND;TZID=America/Los_Angeles:20260428T190000
SUMMARY:Girl Scouts - E105
TRANSP:OPAQUE
BEGIN:VALARM
ACTION:DISPLAY
DESCRIPTION:Girl Scouts - E105
TRIGGER:-PT15M
END:VALARM
END:VEVENT
END:VCALENDAR
