BEGIN:VCALENDAR
VERSION:2.0
PRODID:-//www.cabotumc.org//NONSGML kigkonsult.se iCalcreator 2.39.1//
CALSCALE:GREGORIAN
METHOD:PUBLISH
UID:e478365c-aef9-4f0e-a8d0-8894b97f0173
X-WR-CALNAME:www.cabotumc.org
X-WR-CALDESC:www.cabotumc.org
X-WR-TIMEZONE:America/Los_Angeles
X-LIC-LOCATION:America/Los_Angeles
BEGIN:VEVENT
UID:24c1bcd6-6012-48cd-aad2-feff2dbe27be
DTSTAMP:20260419T215146Z
CLASS:PUBLIC
DTSTART;TZID=America/Los_Angeles:20260419T110000
DTEND;TZID=America/Los_Angeles:20260419T120000
SUMMARY:Traditional Service - Sanctuary
TRANSP:OPAQUE
BEGIN:VALARM
ACTION:DISPLAY
DESCRIPTION:Traditional Service - Sanctuary
TRIGGER:-PT15M
END:VALARM
END:VEVENT
END:VCALENDAR
