BEGIN:VCALENDAR
VERSION:2.0
PRODID:-//www.cabotumc.org//NONSGML kigkonsult.se iCalcreator 2.39.1//
CALSCALE:GREGORIAN
METHOD:PUBLISH
UID:9a391548-5382-4d64-ab97-119205e0809d
X-WR-CALNAME:www.cabotumc.org
X-WR-CALDESC:www.cabotumc.org
X-WR-TIMEZONE:America/Los_Angeles
X-LIC-LOCATION:America/Los_Angeles
BEGIN:VEVENT
UID:fca64c1a-9c69-429c-b59e-0f0b4562093a
DTSTAMP:20260421T122659Z
CLASS:PUBLIC
DTSTART;TZID=America/Los_Angeles:20260421T090000
DTEND;TZID=America/Los_Angeles:20260421T120000
SUMMARY:Food Pantry Open - Enter through Family Life Center doors
TRANSP:OPAQUE
BEGIN:VALARM
ACTION:DISPLAY
DESCRIPTION:Food Pantry Open - Enter through Family Life Center doors
TRIGGER:-PT15M
END:VALARM
END:VEVENT
END:VCALENDAR
