BEGIN:VCALENDAR
VERSION:2.0
PRODID:-//www.cabotumc.org//NONSGML kigkonsult.se iCalcreator 2.39.1//
CALSCALE:GREGORIAN
METHOD:PUBLISH
UID:34bed0b8-83b1-4002-8379-bf9c02ce6ebe
X-WR-CALNAME:www.cabotumc.org
X-WR-CALDESC:www.cabotumc.org
X-WR-TIMEZONE:America/Los_Angeles
X-LIC-LOCATION:America/Los_Angeles
BEGIN:VEVENT
UID:943bc840-3cce-4604-b0d2-5f7edd59427c
DTSTAMP:20260425T163825Z
CLASS:PUBLIC
DTSTART;TZID=America/Los_Angeles:20260411T080000
DTEND;TZID=America/Los_Angeles:20260411T160000
SUMMARY:Wesley Center reserved - Kairos
TRANSP:OPAQUE
BEGIN:VALARM
ACTION:DISPLAY
DESCRIPTION:Wesley Center reserved - Kairos
TRIGGER:-PT15M
END:VALARM
END:VEVENT
END:VCALENDAR
